BEGIN:VCALENDAR
VERSION:2.0
PRODID:-//Sumsol - ECPv6.0.6.2//NONSGML v1.0//EN
CALSCALE:GREGORIAN
METHOD:PUBLISH
X-ORIGINAL-URL:https://www.v1.sumsol.com
X-WR-CALDESC:Eventos para Sumsol
REFRESH-INTERVAL;VALUE=DURATION:PT1H
X-Robots-Tag:noindex
X-PUBLISHED-TTL:PT1H
BEGIN:VTIMEZONE
TZID:Europe/Helsinki
BEGIN:DAYLIGHT
TZOFFSETFROM:+0200
TZOFFSETTO:+0300
TZNAME:EEST
DTSTART:20220327T010000
END:DAYLIGHT
BEGIN:STANDARD
TZOFFSETFROM:+0300
TZOFFSETTO:+0200
TZNAME:EET
DTSTART:20221030T010000
END:STANDARD
BEGIN:DAYLIGHT
TZOFFSETFROM:+0200
TZOFFSETTO:+0300
TZNAME:EEST
DTSTART:20230326T010000
END:DAYLIGHT
BEGIN:STANDARD
TZOFFSETFROM:+0300
TZOFFSETTO:+0200
TZNAME:EET
DTSTART:20231029T010000
END:STANDARD
END:VTIMEZONE
BEGIN:VEVENT
DTSTART;TZID=Europe/Helsinki:20221201T090000
DTEND;TZID=Europe/Helsinki:20221201T180000
DTSTAMP:20260424T232824
CREATED:20221014T071604Z
LAST-MODIFIED:20230316T090253Z
UID:10000003-1669885200-1669917600@www.v1.sumsol.com
SUMMARY:Curso | Puesta en Marcha Sistemas Huawei Residencial\, Comercial e Industrial
DESCRIPTION:Destinado: Personal de SAT con experiencia en sistemas de energía solar. \nObjetivo: Preparar a los servicios de asistencia técnica para poder dar apoyo en las puesta en marcha de clientes e instaladores. \nModalidad: Presencial. \nLugar: Aula de Formación Huawei-Sumsol:  Rio Zújar 1\, Nave 5.  28906 Getafe. Madrid. \n		\n			AGENDA		\n		09:00 – 09:15 Recepción.09:15 – 09:30 Introducción y presentación del curso.09:30 – 11:30 Puesta en marcha de Gama Domestica. Inversores Monofasicos \,Trifasicos\, Bateria Luna11:30 – 12:00 Descanso.12:00 – 14:00 Puesta en Marcha de Gama Comercial Industrial. SmartLogger. Accesorios14:00 – 15:00 Comida.15:00 – 16:30 Gestión de plantas y dispositivos en FusionSolar. Altas\, bajas\, modificaciones.16:30 – 16:45 Descanso.16:45 – 18:00 Casos prácticos.
URL:https://www.v1.sumsol.com/curso/curso-puesta-en-marcha-sistemas-huawei-residencial-comercial-industrial-madrid-1-12-2022/
LOCATION:Aula de Formación Sumsol Madrid\, Calle Río Zújar 1\, nave 5\, Getafe\, Madrid\, 28906\, España
CATEGORIES:Presencial
ATTACH;FMTTYPE=image/jpeg:https://www.v1.sumsol.com/wp-content/uploads/2022/10/engineer-on-background.jpg
END:VEVENT
BEGIN:VEVENT
DTSTART;TZID=Europe/Helsinki:20230309T083000
DTEND;TZID=Europe/Helsinki:20230309T143000
DTSTAMP:20260424T232824
CREATED:20230216T094445Z
LAST-MODIFIED:20230316T090253Z
UID:10000036-1678350600-1678372200@www.v1.sumsol.com
SUMMARY:Curso presencial | Madrid | Soluciones Residenciales | Huawei
DESCRIPTION:Destinado: Profesionales con experiencia en instalaciones de energía solar fotovoltaica \nObjetivo: Se realizará un recorrido pormenorizado de los diferentes componentes de una instalación de autoconsumo\, centrándonos en el uso de equipos de Huawei. \nTipo de curso: Presencial. \nLugar: Aula de Formación de SumSol – C/ Rio Zujar 1\, Nave 5. 28906 (Getafe\, Madrid) \n 		\n			AGENDA		\n		08:45 – 09:00 Recepción.09:00 – 09:15 Introducción y presentación del curso.09:15 – 10:00 Módulos\, tipos e instalación gama residencial10:00 – 10:45 Estructuras\, tipos e instalación gama residencial10:45 – 11:15 Protecciones AC\, DC en Instalaciones Residenciales11:15 – 11:45 Gama de Productos Huawei Residencial. Inversores\, Baterías y accesorios. Instalación.11:45 – 12:00 Descanso12:00 – 12:30 Programas de calculo y diseño de sistemas\, estructuras y inversores. Huawei SmartDesign.3\,012:30 – 13:00 Gestión de Usuarios y Plantas en FusionSolar13:00 – 14:00 Puesta en marcha de sistemas Residenciales con Huawei. FusionSolar 7.0 Web y App.14:00 – 14:30 Caso practico real de puesta en marcha de sistema ESS Huawei. Con los equipos del aula.
URL:https://www.v1.sumsol.com/curso/presencial-madrid-huawei-residencial-09-03/
LOCATION:Aula de Formación Sumsol Madrid\, Calle Río Zújar 1\, nave 5\, Getafe\, Madrid\, 28906\, España
CATEGORIES:Presencial
ATTACH;FMTTYPE=image/jpeg:https://www.v1.sumsol.com/wp-content/uploads/2023/02/SumSol_formacion-huawei-residecial_0903.jpg
END:VEVENT
BEGIN:VEVENT
DTSTART;TZID=Europe/Helsinki:20230316T083000
DTEND;TZID=Europe/Helsinki:20230316T150000
DTSTAMP:20260424T232824
CREATED:20230216T091844Z
LAST-MODIFIED:20230316T090253Z
UID:10000035-1678955400-1678978800@www.v1.sumsol.com
SUMMARY:Curso presencial | Madrid | Sistemas Autoconsumo Comercial Industrial | Huawei
DESCRIPTION:Destinado: Profesionales con experiencia en instalaciones de energía solar fotovoltaica \nObjetivo: Se realizará un recorrido pormenorizado de los diferentes componentes de una instalación de autoconsumo en el entorno Comercial e Industrial\, centrándonos en el uso de equipos de Huawei. \nTipo de curso: Presencial. \nLugar: Aula de Formación de SumSol – C/ Rio Zujar 1\, Nave 5. 28906 (Getafe\, Madrid) \n 		\n			AGENDA		\n		08:45 – 09:00 Recepción.09:00 – 09:15 Introducción y presentación del curso.09:15 – 10:00 Módulos\, tipos e instalación gama Comercial-Industrial10:00 – 10:45 Estructuras\, tipos e instalación gama Comercial-Industrial10:45 – 11:15 Protecciones AC y DC en Insta. Industriales. Sistemas de Inyección 0\, watímetros\, estaciones meteorológicas.11:15 – 11:45 Gama de Productos Huawei Comercial-Industrial. Instalación.11:45 – 12:00 Descanso12:00 – 12:30 Programas de calculo y diseño de sistemas\, estructuras y inversores. Huawei SmartDesign. 3.012:30 – 13:00 Gestión de Usuarios y Plantas en FusionSolar13:00 – 14:00 Puesta en marcha de sistemas Comerciales-Industriales con Huawei. FusionSolar 7.0 Web y App.14:00 – 14:30 Caso practico real de puesta en marcha de sistema de Autoconsumo con Inyección 0 mediante SmartLogger con los equipos del aula.14:30 – 15:00 Programa de Certificación de Instaladores Huawei.
URL:https://www.v1.sumsol.com/curso/presencial-madrid-huawei-comercial-16-03/
LOCATION:Aula de Formación Sumsol Madrid\, Calle Río Zújar 1\, nave 5\, Getafe\, Madrid\, 28906\, España
CATEGORIES:Presencial
ATTACH;FMTTYPE=image/jpeg:https://www.v1.sumsol.com/wp-content/uploads/2023/02/SumSol_formacion-huawei-industrial_1603.jpg
END:VEVENT
BEGIN:VEVENT
DTSTART;TZID=Europe/Helsinki:20230322T093000
DTEND;TZID=Europe/Helsinki:20230322T140000
DTSTAMP:20260424T232824
CREATED:20230302T111030Z
LAST-MODIFIED:20230322T104650Z
UID:10000037-1679477400-1679493600@www.v1.sumsol.com
SUMMARY:Curso presencial | Madrid | SumSol Financia
DESCRIPTION:Destinado: Profesionales interesados en conocer en profundidad la plataforma de financiación SumSol Financia. \nObjetivo:  Poner en valor el servicio de financiación de SumSol Financia\, comunicando los beneficios\, los diferentes servicios de financiación que ofrecemos y cómo adaptarlos a los clientes desde instalaciones residenciales hasta industriales. \nTipo de curso: Presencial. \nLugar: Aula de Formación SumSol Madrid – C/ Rio Zujar 1\, Nave 5. 28906 (Getafe\, Madrid) \n 		\n			AGENDA		\n		09:30 – 10:00 Recepción. \n10:00- 12:00 Presentación del servicio de financiación para proyectos de Residencial\, Pymes e Industrial \n\nFinanciación aplicada a cada tipología de cliente final en cada uno de los servicios.\nVentajas adquiridas como instalador al ofrecer el servicio de financiación.\n\n12:00-12:45 Descanso-almuerzo \n12:45 : 13:45 Formación de plataforma y funcionalidades: \n– Cómo darme de alta en la plataforma.– Cotización de financiación para instalaciones residenciales.– Cómo hacer la firma de contrato a través de la plataforma de forma digital y en el mismo momento con nuestro cliente.– Cotización de financiación para pymes.– Gestión de mis clientes dentro de la plataforma. \n14:00 Cierre de formación
URL:https://www.v1.sumsol.com/curso/presencial-madrid-sumsol-financia-22-03/
LOCATION:Aula de Formación Sumsol Madrid\, Calle Río Zújar 1\, nave 5\, Getafe\, Madrid\, 28906\, España
CATEGORIES:Presencial
ATTACH;FMTTYPE=image/jpeg:https://www.v1.sumsol.com/wp-content/uploads/2022/11/serviciofinanciacion_sumsol.jpg
END:VEVENT
BEGIN:VEVENT
DTSTART;TZID=Europe/Helsinki:20230330T090000
DTEND;TZID=Europe/Helsinki:20230330T130000
DTSTAMP:20260424T232824
CREATED:20230216T090533Z
LAST-MODIFIED:20230330T073416Z
UID:10000033-1680166800-1680181200@www.v1.sumsol.com
SUMMARY:Curso presencial | Madrid | Sistemas autoconsumo | SAJ
DESCRIPTION:Destinado: Profesionales con experiencia en instalaciones de energía solar fotovoltaica \nObjetivo: Se realizará un recorrido pormenorizado de los equipos de autoconsumo SAJ. \nTipo de curso: Presencial. \nLugar: Aula de Formación de SumSol – C/ Rio Zujar 1\, Nave 5. 28906 (Getafe\, Madrid) \n 		\n			AGENDA		\n		09:00 Recepción.– Puesta en marcha de los equipos SAJ– Análisis Técnico de los equipos.– Conexiones y problemas comunes.– Incidencias y Protocolos– Enfoque Futuro y estructura de la matriz de la aplicación E-SAJ. Certificados SAJ y Service \n  \n13:00 Dudas y preguntas.
URL:https://www.v1.sumsol.com/curso/presencial-madrid-saj-30-03/
LOCATION:Aula de Formación Sumsol Madrid\, Calle Río Zújar 1\, nave 5\, Getafe\, Madrid\, 28906\, España
CATEGORIES:Presencial
ATTACH;FMTTYPE=image/jpeg:https://www.v1.sumsol.com/wp-content/uploads/2023/01/Sumsol_curso_autoconsumo-industrial.jpg
END:VEVENT
BEGIN:VEVENT
DTSTART;TZID=Europe/Helsinki:20230427T100000
DTEND;TZID=Europe/Helsinki:20230427T140000
DTSTAMP:20260424T232824
CREATED:20230329T102723Z
LAST-MODIFIED:20230427T075208Z
UID:10000042-1682589600-1682604000@www.v1.sumsol.com
SUMMARY:Curso presencial | Madrid | Sistemas Acumulación | Ingeteam y Cegasa
DESCRIPTION:Destinado: Profesionales con experiencia en instalaciones de energía solar fotovoltaica \nObjetivo: Realizar un recorrido pormenorizado por los equipos de Ingeteam Storage y las baterías Cegasa eBick.  \nTipo de curso: Presencial. \nLugar: Aula de Formación de SumSol – C/ Rio Zujar 1\, Nave 5. 28906 (Getafe\, Madrid) \n 		\n																														\n			AGENDA\n		\n		10:00 horas – Recepción.  \n10:00-12:00 horas – Introducción y presentación del curso. \n– Presentación Equipos Ingeteam Storage: Especificaciones\, conexiones y configuración.– Ingeteam Storage y EMS.– Conexiones y configuración.– Ingecon Sun Monitor. \n12:00-12:30 horas – Descanso \n12:30-14:00 horas – Baterias Cegasa eBick \n– Especificaciones\, conexiones y configuración \n14:00 horas – Ruegos y preguntas. Despedida
URL:https://www.v1.sumsol.com/curso/presencial-madrid-ingeteam-2704/
LOCATION:Aula de Formación Sumsol Madrid\, Calle Río Zújar 1\, nave 5\, Getafe\, Madrid\, 28906\, España
CATEGORIES:Presencial
ATTACH;FMTTYPE=image/jpeg:https://www.v1.sumsol.com/wp-content/uploads/2022/10/curso-formacion-sumsol.jpg
END:VEVENT
BEGIN:VEVENT
DTSTART;TZID=Europe/Helsinki:20230511T083000
DTEND;TZID=Europe/Helsinki:20230511T143000
DTSTAMP:20260424T232824
CREATED:20230426T072434Z
LAST-MODIFIED:20230511T075525Z
UID:10000045-1683793800-1683815400@www.v1.sumsol.com
SUMMARY:Curso presencial | Madrid | Sistemas de Bombeo Solar
DESCRIPTION:Destinado: Profesionales con experiencia en instalaciones de energía solar fotovoltaica \nObjetivo: Se realizará un amplio recorrido de los diferentes componentes de una instalación de Bombeo Solar\, centrándonos en el uso de equipos Lorentz\, Grundfos y sistemas de Variadores Vacon. \nTipo de curso: Presencial. \nLugar: Aula de Formación de SumSol – C/ Rio Zujar 1\, Nave 5. 28906 (Getafe\, Madrid) \nAGENDA\n08:45 – 09:00 Recepción.• Introducción y presentación del curso.• Módulos: tipos e instalación• Estructuras: tipos e instalación (Cubiertas\, Suelo\, Seguidores)• Protecciones AC y DC en Instalaciones de bombeo.• Gama de Productos Lorentz• Gama de Productos Grundfos• Gama de productos Vacon. Motores de alta eficiencia Franklin \n11:15 – 12:00 Descanso• Programa de cálculo y diseño de sistemas Lorentz.• Programa de cálculo y diseño de sistemas Grundfos.• Calculo y diseño de sistemas de Variadores Vacon• Grandes sistemas de Bombeo:Sistemas de bombeo con sistemas de autoconsumoSistemas de bombeo hibridados con Grupos Electrógeno \n14:30 Finalización.
URL:https://www.v1.sumsol.com/curso/presencial-madrid-bombeo-solar-1105/
LOCATION:Aula de Formación Sumsol Madrid\, Calle Río Zújar 1\, nave 5\, Getafe\, Madrid\, 28906\, España
CATEGORIES:Presencial
ATTACH;FMTTYPE=image/jpeg:https://www.v1.sumsol.com/wp-content/uploads/2023/02/SumSol_formacion-bombeo-solar_2303.jpg
END:VEVENT
BEGIN:VEVENT
DTSTART;TZID=Europe/Helsinki:20230620T100000
DTEND;TZID=Europe/Helsinki:20230620T150000
DTSTAMP:20260424T232824
CREATED:20230531T133535Z
LAST-MODIFIED:20230620T100652Z
UID:10000050-1687255200-1687273200@www.v1.sumsol.com
SUMMARY:Roadshow SAJ | Madrid | Almacenamiento energético: Soluciones inteligentes
DESCRIPTION:Destinado: Profesionales con experiencia en instalaciones de energía solar fotovoltaica \nObjetivo: Se realizará un amplio recorrido por las diferentes soluciones que tiene SAJ en el mercado\, prestando especial atención a las soluciones inteligentes de almacenamiento de energía\, como el All-In-One HS2. \nTipo de curso: Presencial. \nLugar: Aula de Formación de SumSol – C/ Rio Zujar 1\, Nave 5. 28906 (Getafe\, Madrid) \nAGENDA\n10:00-10:30 horas – Recepción \n10:30-10:45 – Bienvenida y café \n10:45-11:00 – Introducción a SAJ \n11:00-12:00 – Productos– Soluciones inteligentes de almacenamiento de energía: HS2 All-In-One.– Política de cupones  \n12:00-12:15 – Descanso y aperitivo \n12:15-13:30 – Van tour – Experiencia práctica y formación \n13:30-14:30 – Catering \n14:30-15:00 – Despedida y cierre
URL:https://www.v1.sumsol.com/curso/madrid-roadshow-saj/
LOCATION:Aula de Formación Sumsol Madrid\, Calle Río Zújar 1\, nave 5\, Getafe\, Madrid\, 28906\, España
CATEGORIES:Presencial
ATTACH;FMTTYPE=image/webp:https://www.v1.sumsol.com/wp-content/uploads/2023/05/SAJ-Roadshow-2023-KV-e1686062819402.webp
END:VEVENT
BEGIN:VEVENT
DTSTART;TZID=Europe/Helsinki:20230629T093000
DTEND;TZID=Europe/Helsinki:20230629T133000
DTSTAMP:20260424T232824
CREATED:20230531T085446Z
LAST-MODIFIED:20230629T065746Z
UID:10000049-1688031000-1688045400@www.v1.sumsol.com
SUMMARY:Curso presencial | Madrid | Sistemas de Carga de VE Huawei
DESCRIPTION:Destinado: Profesionales con experiencia en instalaciones de energía solar fotovoltaica \nObjetivo: Se realizará un amplio recorrido por los diferentes componentes de una instalación carga de vehículo eléctrico (VE). Nos centraremos en su integración con los sistemas de energía solar. \nTipo de curso: Presencial. \nLugar: Aula de Formación de SumSol – C/ Rio Zujar 1\, Nave 5. 28906 (Getafe\, Madrid) \nAGENDA\n09:45 – 10:00 Recepción.\n• Tipos de Cargadores y normativa\n• Gama de Cargadores de VE y características equipos Huawei\n• Conectividad \n11:30 – 12:00 Descanso\n• Instalación del sistema de carga de VE.\n• Protecciones\n• Configuración del cargador VE\n• Mantenimiento y solución de Problemas \n13:30 Ruegos y preguntas. Despedida.
URL:https://www.v1.sumsol.com/curso/presencial-madrid-ve-huawei-2906/
LOCATION:Aula de Formación Sumsol Madrid\, Calle Río Zújar 1\, nave 5\, Getafe\, Madrid\, 28906\, España
CATEGORIES:Presencial
ATTACH;FMTTYPE=image/jpeg:https://www.v1.sumsol.com/wp-content/uploads/2022/12/cargador-de-vehiculo-electrico-Huawei-SmartCharger-SCharger.jpg
END:VEVENT
BEGIN:VEVENT
DTSTART;TZID=Europe/Helsinki:20230706T100000
DTEND;TZID=Europe/Helsinki:20230706T150000
DTSTAMP:20260424T232824
CREATED:20230626T093455Z
LAST-MODIFIED:20230705T151818Z
UID:10000051-1688637600-1688655600@www.v1.sumsol.com
SUMMARY:Presentación | Madrid | Soluciones de Enphase
DESCRIPTION:Destinado: Profesionales con experiencia en instalaciones de energía solar fotovoltaica \nObjetivo: Se realizará un amplio recorrido por los diferentes soluciones de Enphase: Microinversores\, baterías\, equipos de comunicación y la app Enphase Enlighten. \nTipo de curso: Presencial. \nLugar: Aula de Formación de SumSol – C/ Rio Zujar 1\, Nave 5. 28906 (Getafe\, Madrid) \n																														 \nAGENDA\n10:00-10:30 horas – Recepción y café de bienvenida \n10:30-11:00 – Introducción al evento \n11:00-11:20 – Presentación empresa y equipo Enphase \n11:20-12:00 – Ventajas comerciales y roadmap \n12:15-13:45 – Presentación de producto y dimensionado de sistemas Enphase – Microinversores IQ8– Baterías – Módulo de comunicaciones– Funcionalidades de su app Enphase Enlighten \n13:44-15:00 – Catering & networking \nDespedida y cierre \nLa inscripción para este evento está cerrada\, ¡nos vemos en la próxima cita!
URL:https://www.v1.sumsol.com/curso/presentacion-madrid-enphase-0607/
LOCATION:Aula de Formación Sumsol Madrid\, Calle Río Zújar 1\, nave 5\, Getafe\, Madrid\, 28906\, España
CATEGORIES:Presencial
ATTACH;FMTTYPE=image/webp:https://www.v1.sumsol.com/wp-content/uploads/2023/06/SumSol_presentacion-enphase_microinversor.webp
END:VEVENT
END:VCALENDAR