BEGIN:VCALENDAR
VERSION:2.0
PRODID:-//Sumsol - ECPv6.0.6.2//NONSGML v1.0//EN
CALSCALE:GREGORIAN
METHOD:PUBLISH
X-ORIGINAL-URL:https://www.v1.sumsol.com
X-WR-CALDESC:Eventos para Sumsol
REFRESH-INTERVAL;VALUE=DURATION:PT1H
X-Robots-Tag:noindex
X-PUBLISHED-TTL:PT1H
BEGIN:VTIMEZONE
TZID:Europe/Helsinki
BEGIN:DAYLIGHT
TZOFFSETFROM:+0200
TZOFFSETTO:+0300
TZNAME:EEST
DTSTART:20220327T010000
END:DAYLIGHT
BEGIN:STANDARD
TZOFFSETFROM:+0300
TZOFFSETTO:+0200
TZNAME:EET
DTSTART:20221030T010000
END:STANDARD
BEGIN:DAYLIGHT
TZOFFSETFROM:+0200
TZOFFSETTO:+0300
TZNAME:EEST
DTSTART:20230326T010000
END:DAYLIGHT
BEGIN:STANDARD
TZOFFSETFROM:+0300
TZOFFSETTO:+0200
TZNAME:EET
DTSTART:20231029T010000
END:STANDARD
END:VTIMEZONE
BEGIN:VEVENT
DTSTART;TZID=Europe/Helsinki:20230323T083000
DTEND;TZID=Europe/Helsinki:20230323T143000
DTSTAMP:20260424T232151
CREATED:20230216T091052Z
LAST-MODIFIED:20230323T143559Z
UID:10000034-1679560200-1679581800@www.v1.sumsol.com
SUMMARY:Curso presencial | Sevilla | Sistemas de Bombeo Solar
DESCRIPTION:Destinado: Profesionales con experiencia en instalaciones de energía solar fotovoltaica \nObjetivo: Se realizará un amplio recorrido de los diferentes componentes de una instalación de Bombeo Solar\, centrándonos en el uso de equipos Lorentz\, Grundfos y sistemas de Variadores Vacon. \nTipo de curso: Presencial. \nLugar: Aula de Formación de SumSol – Pino Siberia\, 38\, 41016 (Sevilla) \n 		\n			AGENDA		\n		08:45 – 09:00 Recepción.• Introducción y presentación del curso.• Módulos: tipos e instalación• Estructuras: tipos e instalación (Cubiertas\, Suelo\, Seguidores)• Protecciones AC y DC en Instalaciones de bombeo.• Gama de Productos Lorentz• Gama de Productos Grundfos• Gama de productos Vacon. Motores de alta eficiencia Franklin \n11:15 – 12:00 Descanso• Programa de cálculo y diseño de sistemas Lorentz.• Programa de cálculo y diseño de sistemas Grundfos.• Calculo y diseño de sistemas de Variadores Vacon• Grandes sistemas de Bombeo:Sistemas de bombeo con sistemas de autoconsumoSistemas de bombeo hibridados con Grupos Electrógeno \n14:30 Finalización.
URL:https://www.v1.sumsol.com/curso/presencial-sevilla-bombeo-solar-23-03/
LOCATION:Aula de Formación Sumsol Sevilla\, Pino Siberia\, 38.\, Sevilla\, 41016\, España
CATEGORIES:Presencial
ATTACH;FMTTYPE=image/jpeg:https://www.v1.sumsol.com/wp-content/uploads/2023/02/SumSol_formacion-bombeo-solar_2303.jpg
END:VEVENT
BEGIN:VEVENT
DTSTART;TZID=Europe/Helsinki:20230322T093000
DTEND;TZID=Europe/Helsinki:20230322T140000
DTSTAMP:20260424T232151
CREATED:20230302T111030Z
LAST-MODIFIED:20230322T104650Z
UID:10000037-1679477400-1679493600@www.v1.sumsol.com
SUMMARY:Curso presencial | Madrid | SumSol Financia
DESCRIPTION:Destinado: Profesionales interesados en conocer en profundidad la plataforma de financiación SumSol Financia. \nObjetivo:  Poner en valor el servicio de financiación de SumSol Financia\, comunicando los beneficios\, los diferentes servicios de financiación que ofrecemos y cómo adaptarlos a los clientes desde instalaciones residenciales hasta industriales. \nTipo de curso: Presencial. \nLugar: Aula de Formación SumSol Madrid – C/ Rio Zujar 1\, Nave 5. 28906 (Getafe\, Madrid) \n 		\n			AGENDA		\n		09:30 – 10:00 Recepción. \n10:00- 12:00 Presentación del servicio de financiación para proyectos de Residencial\, Pymes e Industrial \n\nFinanciación aplicada a cada tipología de cliente final en cada uno de los servicios.\nVentajas adquiridas como instalador al ofrecer el servicio de financiación.\n\n12:00-12:45 Descanso-almuerzo \n12:45 : 13:45 Formación de plataforma y funcionalidades: \n– Cómo darme de alta en la plataforma.– Cotización de financiación para instalaciones residenciales.– Cómo hacer la firma de contrato a través de la plataforma de forma digital y en el mismo momento con nuestro cliente.– Cotización de financiación para pymes.– Gestión de mis clientes dentro de la plataforma. \n14:00 Cierre de formación
URL:https://www.v1.sumsol.com/curso/presencial-madrid-sumsol-financia-22-03/
LOCATION:Aula de Formación Sumsol Madrid\, Calle Río Zújar 1\, nave 5\, Getafe\, Madrid\, 28906\, España
CATEGORIES:Presencial
ATTACH;FMTTYPE=image/jpeg:https://www.v1.sumsol.com/wp-content/uploads/2022/11/serviciofinanciacion_sumsol.jpg
END:VEVENT
BEGIN:VEVENT
DTSTART;TZID=Europe/Helsinki:20230316T083000
DTEND;TZID=Europe/Helsinki:20230316T150000
DTSTAMP:20260424T232151
CREATED:20230216T091844Z
LAST-MODIFIED:20230316T090253Z
UID:10000035-1678955400-1678978800@www.v1.sumsol.com
SUMMARY:Curso presencial | Madrid | Sistemas Autoconsumo Comercial Industrial | Huawei
DESCRIPTION:Destinado: Profesionales con experiencia en instalaciones de energía solar fotovoltaica \nObjetivo: Se realizará un recorrido pormenorizado de los diferentes componentes de una instalación de autoconsumo en el entorno Comercial e Industrial\, centrándonos en el uso de equipos de Huawei. \nTipo de curso: Presencial. \nLugar: Aula de Formación de SumSol – C/ Rio Zujar 1\, Nave 5. 28906 (Getafe\, Madrid) \n 		\n			AGENDA		\n		08:45 – 09:00 Recepción.09:00 – 09:15 Introducción y presentación del curso.09:15 – 10:00 Módulos\, tipos e instalación gama Comercial-Industrial10:00 – 10:45 Estructuras\, tipos e instalación gama Comercial-Industrial10:45 – 11:15 Protecciones AC y DC en Insta. Industriales. Sistemas de Inyección 0\, watímetros\, estaciones meteorológicas.11:15 – 11:45 Gama de Productos Huawei Comercial-Industrial. Instalación.11:45 – 12:00 Descanso12:00 – 12:30 Programas de calculo y diseño de sistemas\, estructuras y inversores. Huawei SmartDesign. 3.012:30 – 13:00 Gestión de Usuarios y Plantas en FusionSolar13:00 – 14:00 Puesta en marcha de sistemas Comerciales-Industriales con Huawei. FusionSolar 7.0 Web y App.14:00 – 14:30 Caso practico real de puesta en marcha de sistema de Autoconsumo con Inyección 0 mediante SmartLogger con los equipos del aula.14:30 – 15:00 Programa de Certificación de Instaladores Huawei.
URL:https://www.v1.sumsol.com/curso/presencial-madrid-huawei-comercial-16-03/
LOCATION:Aula de Formación Sumsol Madrid\, Calle Río Zújar 1\, nave 5\, Getafe\, Madrid\, 28906\, España
CATEGORIES:Presencial
ATTACH;FMTTYPE=image/jpeg:https://www.v1.sumsol.com/wp-content/uploads/2023/02/SumSol_formacion-huawei-industrial_1603.jpg
END:VEVENT
BEGIN:VEVENT
DTSTART;TZID=Europe/Helsinki:20230309T083000
DTEND;TZID=Europe/Helsinki:20230309T143000
DTSTAMP:20260424T232151
CREATED:20230216T094445Z
LAST-MODIFIED:20230316T090253Z
UID:10000036-1678350600-1678372200@www.v1.sumsol.com
SUMMARY:Curso presencial | Madrid | Soluciones Residenciales | Huawei
DESCRIPTION:Destinado: Profesionales con experiencia en instalaciones de energía solar fotovoltaica \nObjetivo: Se realizará un recorrido pormenorizado de los diferentes componentes de una instalación de autoconsumo\, centrándonos en el uso de equipos de Huawei. \nTipo de curso: Presencial. \nLugar: Aula de Formación de SumSol – C/ Rio Zujar 1\, Nave 5. 28906 (Getafe\, Madrid) \n 		\n			AGENDA		\n		08:45 – 09:00 Recepción.09:00 – 09:15 Introducción y presentación del curso.09:15 – 10:00 Módulos\, tipos e instalación gama residencial10:00 – 10:45 Estructuras\, tipos e instalación gama residencial10:45 – 11:15 Protecciones AC\, DC en Instalaciones Residenciales11:15 – 11:45 Gama de Productos Huawei Residencial. Inversores\, Baterías y accesorios. Instalación.11:45 – 12:00 Descanso12:00 – 12:30 Programas de calculo y diseño de sistemas\, estructuras y inversores. Huawei SmartDesign.3\,012:30 – 13:00 Gestión de Usuarios y Plantas en FusionSolar13:00 – 14:00 Puesta en marcha de sistemas Residenciales con Huawei. FusionSolar 7.0 Web y App.14:00 – 14:30 Caso practico real de puesta en marcha de sistema ESS Huawei. Con los equipos del aula.
URL:https://www.v1.sumsol.com/curso/presencial-madrid-huawei-residencial-09-03/
LOCATION:Aula de Formación Sumsol Madrid\, Calle Río Zújar 1\, nave 5\, Getafe\, Madrid\, 28906\, España
CATEGORIES:Presencial
ATTACH;FMTTYPE=image/jpeg:https://www.v1.sumsol.com/wp-content/uploads/2023/02/SumSol_formacion-huawei-residecial_0903.jpg
END:VEVENT
BEGIN:VEVENT
DTSTART;TZID=Europe/Helsinki:20230228T090000
DTEND;TZID=Europe/Helsinki:20230228T130000
DTSTAMP:20260424T232151
CREATED:20230123T155555Z
LAST-MODIFIED:20230316T090253Z
UID:10000027-1677574800-1677589200@www.v1.sumsol.com
SUMMARY:Curso presencial | Sistemas autoconsumo | SAJ
DESCRIPTION:Destinado: Profesionales con experiencia en instalaciones de energía solar fotovoltaica \nObjetivo: Se realizará un recorrido pormenorizado de los equipos de autoconsumo SAJ \nTipo de curso: Presencial. \nLugar: Aula de Formación de ANOVO – Calle Isla de Alegranza 1. San Sebastián de los Reyes (Madrid) \n 		\n			AGENDA		\n		09:00 Recepción.– Puesta en marcha de los equipos SAJ– Análisis Técnico de los equipos.– Conexiones y problemas comunes.– Incidencias y Protocolos– Enfoque Futuro y estructura de la matriz de la aplicación E-SAJ. Certificados SAJ y Service \n13:00 Dudas y preguntas.
URL:https://www.v1.sumsol.com/curso/curso-madrid-sistemas-autoconsumo-saj-28-02-23/
CATEGORIES:Presencial
ATTACH;FMTTYPE=image/jpeg:https://www.v1.sumsol.com/wp-content/uploads/2023/01/Sumsol_curso-saj_autoconsumo.jpg
END:VEVENT
BEGIN:VEVENT
DTSTART;TZID=Europe/Helsinki:20230216T083000
DTEND;TZID=Europe/Helsinki:20230216T143000
DTSTAMP:20260424T232151
CREATED:20230123T155029Z
LAST-MODIFIED:20230316T090253Z
UID:10000026-1676536200-1676557800@www.v1.sumsol.com
SUMMARY:Curso presencial | Diseño\, Instalación y Puesta en Marcha de sistemas de Autoconsumo Comercial Industrial | Huawei
DESCRIPTION:Destinado: Profesionales con experiencia en instalaciones de energía solar fotovoltaica \nObjetivo: Se realizará un recorrido pormenorizado de los diferentes componentes de una instalación de autoconsumo\, centrándonos en el uso de equipos de Huawei. \nTipo de curso: Presencial. \nLugar: Aula de Formación Sumsol: Pino Siberia\, 38\, 41016 (Sevilla) \n 		\n			AGENDA		\n		08:45 – 09:00 Recepción.09:00 – 09:15 Introducción y presentación del curso.09:15 – 10:00 Módulos\, tipos e instalación gama Comercial-Industrial10:00 – 10:45 Estructuras\, tipos e instalación gama Comercial-Industrial10:45 – 11:15 Protecciones AC y DC en Insta. Industriales. Sistemas de Inyección 0 watímetros\, estaciones meteorológicas.11:15 – 11:30 Gama de Productos Huawei Comercial-Industrial. Instalación.11:30 – 12:00 Descanso12:00 – 12:30 Programas de cáculo y diseño de sistemas\, estructuras y inversores. Huawei SmartDesign. 3.012:30 – 13:00 Gestión de Usuarios y Plantas en FusionSolar13:00 – 14:00 Puesta en marcha de sistemas Comerciales-Industriales con Huawei. FusionSolar 7.0 Web y App.14:00 – 14:30 Caso práctico real de puesta en marcha de sistema de Autoconsumo con Inyección 0 mediante SmartLogger. con los equipos del aula.
URL:https://www.v1.sumsol.com/curso/curso-sevilla-autoconsumo-comercial-industrial-16-02-23/
LOCATION:Aula de Formación Sumsol Sevilla\, Pino Siberia\, 38.\, Sevilla\, 41016\, España
CATEGORIES:Presencial
ATTACH;FMTTYPE=image/jpeg:https://www.v1.sumsol.com/wp-content/uploads/2023/01/Sumsol_curso_autoconsumo-industrial.jpg
END:VEVENT
BEGIN:VEVENT
DTSTART;TZID=Europe/Helsinki:20230202T083000
DTEND;TZID=Europe/Helsinki:20230202T143000
DTSTAMP:20260424T232151
CREATED:20230125T105134Z
LAST-MODIFIED:20230316T090253Z
UID:10000028-1675326600-1675348200@www.v1.sumsol.com
SUMMARY:Curso presencial | Diseño\, instalación y puesta en marcha de soluciones Residenciales | Huawei
DESCRIPTION:Destinado: Profesionales con experiencia en instalaciones de energía solar fotovoltaica \nObjetivo: Se realizará un recorrido pormenorizado de los diferentes componentes de una instalación de autoconsumo\, centrándonos en el uso de equipos de Huawei. \nTipo de curso: Presencial. \nLugar: Aula de Formación Sumsol: Pino Siberia\, 38\, 41016 (Sevilla) \n \n \n \n \n \nAGENDA\n08:45 – 09:00 Recepción.09:00 – 09:15 Introducción y presentación del curso.09:15 – 10:00 Módulos\, tipos e instalación gama residencial10:00 – 10:45 Estructuras\, tipos e instalación gama residencial10:45 – 11:15 Protecciones AC\, DC en Instalaciones Residenciales11:15 – 11:45 Gama de Productos Huawei Residencial. Inversores\, Baterías y accesorios. Instalación.11:45 – 12:00 Descanso12:00 – 12:30 Programas de calculo y diseño de sistemas\, estructuras y inversores. Huawei SmartDesign.3\,012:30 – 13:00 Gestión de Usuarios y Plantas en FusionSolar13:00 – 14:00 Puesta en marcha de sistemas Residenciales con Huawei. FusionSolar 7.0 Web y App.14:00 – 14:30 Caso practico real de puesta en marcha de sistema ESS Huawei. Con los equipos del aula.
URL:https://www.v1.sumsol.com/curso/curso-sevilla-soluciones-residenciales-huawei-02-02-2023/
LOCATION:Aula de Formación Sumsol Sevilla\, Pino Siberia\, 38.\, Sevilla\, 41016\, España
CATEGORIES:Presencial
ATTACH;FMTTYPE=image/jpeg:https://www.v1.sumsol.com/wp-content/uploads/2023/01/Sumsol_curso_autoconsumo-residencial.jpg
END:VEVENT
BEGIN:VEVENT
DTSTART;TZID=Europe/Helsinki:20230111T120000
DTEND;TZID=Europe/Helsinki:20230111T140000
DTSTAMP:20260424T232151
CREATED:20221220T083439Z
LAST-MODIFIED:20230316T090253Z
UID:10000011-1673438400-1673445600@www.v1.sumsol.com
SUMMARY:Webinar | Cargador de vehículo eléctrico Huawei SmartCharger SCharger
DESCRIPTION:Destinado: Profesionales con experiencia en instalaciones de puntos de recarga para vehículos eléctricos. \nObjetivo: Conocer las tipologías de cargadores para vehículos eléctricos así como profundizar en las características técnicas del cargador de Vehículo eléctrico Huawei SmartCharger SCharger. \nTipo de curso: Webinar. \n AGENDA \nTipos de Cargadores de Vehículo eléctrico   Cargadores AC      – Cargadores de uso esporádico o de emergencia      – Cargadores básicos      – Cargadores Smart      – Cargadores FV   Cargadores DC      – Cargadores Rápidos >40kW      – Cargadores para flotas <40kW      – Cargadores V2L      – Cargadores V2HV2GTipologías de instalación y normativa.Características de Huawei SmartCharger SChargerInstalación de Huawei SmartCharger SChargerConfiguración de Huawei SmartCharger SCharger
URL:https://www.v1.sumsol.com/curso/webinar-cargador-coche-venus-huawei/
LOCATION:Formación online\, Formación online
ATTACH;FMTTYPE=image/jpeg:https://www.v1.sumsol.com/wp-content/uploads/2022/12/cargador-de-vehiculo-electrico-Huawei-SmartCharger-SCharger.jpg
END:VEVENT
BEGIN:VEVENT
DTSTART;TZID=Europe/Helsinki:20221213T090000
DTEND;TZID=Europe/Helsinki:20221213T180000
DTSTAMP:20260424T232151
CREATED:20221018T154118Z
LAST-MODIFIED:20230316T090253Z
UID:10000009-1670922000-1670954400@www.v1.sumsol.com
SUMMARY:Curso | Diseño\, Instalación y Puesta en Marcha de Sistemas de Autoconsumo Residencial
DESCRIPTION:Destinado: Profesionales con experiencia en instalaciones de energía solar fotovoltaica \nObjetivo: Se realizará un recorrido pormenorizado de los diferentes componentes de una instalación de autoconsumo\, centrándonos en el uso de equipos de Huawei. \nTipo de curso: Presencial. \nLugar: Aula de Formación Huawei-Sumsol:  Pino Siberia\, 38\, 41016 Sevilla. \n 		\n			AGENDA		\n		09:00 – 09:15 Recepción. 09:15 – 09:30 Introducción y presentación del curso. 09:30 – 10:30 Módulos\, tipos e instalación gama residencial 10:30 – 11:30 Módulos\, tipos e instalación gama residencial 11:30 – 11:45 Protecciones AC\, DC en Instalaciones Residenciales 11:45 – 13:00 Gama de Productos Huawei Residencial. Inversores\, Baterías y accesorios. Instalación. 13:00 – 14:00 Programas de cálculo y diseño de sistemas\, estructuras y inversores. Huawei SmartDesign. 14:00 – 15:00 Comida. 15:00 – 16:30 Puesta en marcha de sistemas Residenciales con Huawei. FusionSolar 7.0 Web y App. 16:30 – 17:15 Gestión de Usuarios y Plantas en FusionSolar 17:15 – 18:00 Caso práctico real de puesta en marcha de sistema ESS Huawei. Con los equipos del aula.
URL:https://www.v1.sumsol.com/curso/curso-diseno-instalacion-y-puesta-en-marcha-de-sistemas-de-autoconsumo-residencial-sevilla-13-12-2022/
LOCATION:Aula de Formación Sumsol Sevilla\, Pino Siberia\, 38.\, Sevilla\, 41016\, España
ATTACH;FMTTYPE=image/webp:https://www.v1.sumsol.com/wp-content/uploads/2022/11/home-sumsol-2-movil.webp
END:VEVENT
BEGIN:VEVENT
DTSTART;TZID=Europe/Helsinki:20221201T090000
DTEND;TZID=Europe/Helsinki:20221201T180000
DTSTAMP:20260424T232151
CREATED:20221014T071604Z
LAST-MODIFIED:20230316T090253Z
UID:10000003-1669885200-1669917600@www.v1.sumsol.com
SUMMARY:Curso | Puesta en Marcha Sistemas Huawei Residencial\, Comercial e Industrial
DESCRIPTION:Destinado: Personal de SAT con experiencia en sistemas de energía solar. \nObjetivo: Preparar a los servicios de asistencia técnica para poder dar apoyo en las puesta en marcha de clientes e instaladores. \nModalidad: Presencial. \nLugar: Aula de Formación Huawei-Sumsol:  Rio Zújar 1\, Nave 5.  28906 Getafe. Madrid. \n		\n			AGENDA		\n		09:00 – 09:15 Recepción.09:15 – 09:30 Introducción y presentación del curso.09:30 – 11:30 Puesta en marcha de Gama Domestica. Inversores Monofasicos \,Trifasicos\, Bateria Luna11:30 – 12:00 Descanso.12:00 – 14:00 Puesta en Marcha de Gama Comercial Industrial. SmartLogger. Accesorios14:00 – 15:00 Comida.15:00 – 16:30 Gestión de plantas y dispositivos en FusionSolar. Altas\, bajas\, modificaciones.16:30 – 16:45 Descanso.16:45 – 18:00 Casos prácticos.
URL:https://www.v1.sumsol.com/curso/curso-puesta-en-marcha-sistemas-huawei-residencial-comercial-industrial-madrid-1-12-2022/
LOCATION:Aula de Formación Sumsol Madrid\, Calle Río Zújar 1\, nave 5\, Getafe\, Madrid\, 28906\, España
CATEGORIES:Presencial
ATTACH;FMTTYPE=image/jpeg:https://www.v1.sumsol.com/wp-content/uploads/2022/10/engineer-on-background.jpg
END:VEVENT
END:VCALENDAR